BEGIN:VCALENDAR
VERSION:2.0
PRODID:-//ChamberMaster//Event Calendar 2.0//EN
METHOD:PUBLISH
X-PUBLISHED-TTL:P3D
REFRESH-INTERVAL:P3D
CALSCALE:GREGORIAN
BEGIN:VEVENT
DTSTART:20200311T140000Z
DTEND:20200311T150000Z
X-MICROSOFT-CDO-ALLDAYEVENT:FALSE
SUMMARY:ASEAN Briefing with Mario Masaya\, Senior Manager for ASEAN
DESCRIPTION:ASEAN Briefing\n\nwith\n\n\n\nMario Masaya\n\nSenior Manager - ASEAN\n\nUS-ASEAN Business Council
X-ALT-DESC;FMTTYPE=text/html:<b><span style="font-size: 16pt\; font-family: Arial\, sans-serif\; letter-spacing: 0.75pt\;">ASEAN Briefing<br>\nwith<br>\n<br>\nMario Masaya</span><br>\n<span style="font-size: 13.5pt\; font-family: Calibri\, sans-serif\; letter-spacing: 0.75pt\;">Senior Manager - ASEAN<br>\nUS-ASEAN Business Council</span></b>
LOCATION:US-ASEAN Business Council 1101 17th Street NW\, Suite 411 Washington\, DC
UID:e.9078.8160
SEQUENCE:3
DTSTAMP:20260424T055400Z
URL:http://memberzone.usasean.org/events/details/asean-briefing-with-mario-masaya-senior-manager-for-asean-8160
END:VEVENT

END:VCALENDAR
