BEGIN:VCALENDAR
VERSION:2.0
PRODID:-//ChamberMaster//Event Calendar 2.0//EN
METHOD:PUBLISH
X-PUBLISHED-TTL:P3D
REFRESH-INTERVAL:P3D
CALSCALE:GREGORIAN
BEGIN:VEVENT
DTSTART:20130125T140000Z
DTEND:20130125T153000Z
X-MICROSOFT-CDO-ALLDAYEVENT:FALSE
SUMMARY:ASEAN Briefing with Barbara Weisel\, Assistant USTR for Southeast Asia
DESCRIPTION:Assistant USTR for Southeast Asia Barbara Weisel will brief members on the US-ASEAN Expanded Economic Engagement Initiative (E3). Information on the E3 can be found here. \n\n\n\nBarbara's bio can be found here.
X-ALT-DESC;FMTTYPE=text/html:Assistant USTR for Southeast Asia Barbara Weisel will brief members on the US-ASEAN Expanded Economic Engagement Initiative (E3).<a href="http://www.whitehouse.gov/the-press-office/2012/11/19/fact-sheet-us-asean-expanded-economic-engagement-e3-initiative"> Information on the E3 can be found here. </a><br />\n<br />\n<a href="http://www.ustr.gov/about-us/biographies-key-officials/barbara-weisel-austr">Barbara&#39\;s bio can be found here. </a>
LOCATION:1101 17th Street NW\, Suite 411 Washington D.C. Space is limited for those attending in person. If you would like to call-in\, please do NOT respond to this invite. There is a separate invite for those calling in.
UID:e.9078.688
SEQUENCE:3
DTSTAMP:20260422T111228Z
URL:http://memberzone.usasean.org/events/details/asean-briefing-with-barbara-weisel-assistant-ustr-for-southeast-asia-01-25-2013-688
END:VEVENT

END:VCALENDAR
