BEGIN:VCALENDAR
VERSION:2.0
PRODID:-//ChamberMaster//Event Calendar 2.0//EN
METHOD:PUBLISH
X-PUBLISHED-TTL:P3D
REFRESH-INTERVAL:P3D
CALSCALE:GREGORIAN
BEGIN:VEVENT
DTSTART:20230509T030000Z
DTEND:20230509T051500Z
X-MICROSOFT-CDO-ALLDAYEVENT:FALSE
SUMMARY:ASEAN BAC HWG Health Forum
DESCRIPTION:Invitation to the ASEAN Business Advisory Council (BAC) Health Working\n\nGroup (HWG) Health Forum\, Side Event to the 42nd ASEAN Leadership\n\nSummit.
X-ALT-DESC;FMTTYPE=text/html:<p class="p1" style="margin: 0px\; font-variant-numeric: normal\; font-variant-east-asian: normal\; font-variant-alternates: normal\; font-kerning: auto\; font-optical-sizing: auto\; font-feature-settings: normal\; font-variation-settings: normal\; font-stretch: normal\; font-size: 9.5px\; line-height: normal\; font-family: Helvetica\; color: rgb(0\, 0\, 0)\;"><span style="font-size:12px\;">Invitation to the ASEAN Business Advisory Council (BAC) Health Working</span></p>\n\n<p class="p1" style="margin: 0px\; font-variant-numeric: normal\; font-variant-east-asian: normal\; font-variant-alternates: normal\; font-kerning: auto\; font-optical-sizing: auto\; font-feature-settings: normal\; font-variation-settings: normal\; font-stretch: normal\; font-size: 9.5px\; line-height: normal\; font-family: Helvetica\; color: rgb(0\, 0\, 0)\;"><span style="font-size:12px\;">Group (HWG) Health Forum\, Side Event to the 42<span class="s1" style="font-variant-numeric: normal\; font-variant-east-asian: normal\; font-variant-alternates: normal\; font-kerning: auto\; font-optical-sizing: auto\; font-feature-settings: normal\; font-variation-settings: normal\; font-stretch: normal\; line-height: normal\;">nd </span>ASEAN Leadership</span></p>\n\n<p class="p1" style="margin: 0px\; font-variant-numeric: normal\; font-variant-east-asian: normal\; font-variant-alternates: normal\; font-kerning: auto\; font-optical-sizing: auto\; font-feature-settings: normal\; font-variation-settings: normal\; font-stretch: normal\; font-size: 9.5px\; line-height: normal\; font-family: Helvetica\; color: rgb(0\, 0\, 0)\;"><span style="font-size:12px\;">Summit.</span></p>\n
LOCATION:Bali\, Indonesia
UID:e.9078.9003
SEQUENCE:3
DTSTAMP:20260421T100451Z
URL:http://memberzone.usasean.org/events/details/asean-bac-hwg-health-forum-9003
END:VEVENT

END:VCALENDAR
