BEGIN:VCALENDAR
VERSION:2.0
PRODID:-//ChamberMaster//Event Calendar 2.0//EN
METHOD:PUBLISH
X-PUBLISHED-TTL:P3D
REFRESH-INTERVAL:P3D
CALSCALE:GREGORIAN
BEGIN:VEVENT
DTSTART:20140827T193000Z
DTEND:20140827T203000Z
X-MICROSOFT-CDO-ALLDAYEVENT:FALSE
SUMMARY:APEC SOM III Coalition Briefing
DESCRIPTION:The U.S. APEC Business Coalition would like to invite you to join members of the U.S. business community for a briefing on the highlights and outcomes of the third APEC Senior Officials Meeting held August 6-21 in Beijing.\n\n\n\nPlease RSVP to Catherine Mellor at cmellor@USChamber.com
X-ALT-DESC;FMTTYPE=text/html:<span style="color:#000000\;"><span style="font-family:arial\;"><span style="font-size:12.0pt\;">The U.S. APEC Business Coalition would like to invite you to join members of the U.S. business community for a briefing on the highlights and outcomes of the third APEC Senior Officials Meeting held August 6-21 in Beijing.</span></span></span><br />\n<br />\n<span style="color:#404040\;"><span style="font-family:calibri\,sans-serif\;"><span style="font-size:12.0pt\;">Please RSVP to Catherine Mellor at </span></span></span><span style="color:#4F81BD\;"><span style="font-family:calibri\,sans-serif\;"><span style="font-size:12.0pt\;"><a href="mailto:cmellor@USChamber.com">cmellor@USChamber.com</a></span></span></span>
LOCATION:U.S. Chamber of Commerce 1615 H Street\, NW Room: 3M/RJR Washington DC 20062 Teleconference will be provided upon request
UID:e.9078.1233
SEQUENCE:3
DTSTAMP:20260420T072620Z
URL:http://memberzone.usasean.org/events/details/apec-som-iii-coalition-briefing-08-27-2014-1233
END:VEVENT

END:VCALENDAR
