BEGIN:VCALENDAR
VERSION:2.0
PRODID:-//ChamberMaster//Event Calendar 2.0//EN
METHOD:PUBLISH
X-PUBLISHED-TTL:P3D
REFRESH-INTERVAL:P3D
CALSCALE:GREGORIAN
BEGIN:VEVENT
DTSTART;VALUE=DATE:20141108
DTEND;VALUE=DATE:20141111
TRANSP:TRANSPARENT
X-MICROSOFT-CDO-ALLDAYEVENT:TRUE
SUMMARY:APEC CEO Summit
DESCRIPTION:APEC CEO Summit
X-ALT-DESC;FMTTYPE=text/html:APEC CEO Summit&nbsp\;&nbsp\;&nbsp\;&nbsp\;
LOCATION:Beijing\, China
UID:e.9078.990
SEQUENCE:3
DTSTAMP:20260420T020034Z
URL:http://memberzone.usasean.org/events/details/apec-ceo-summit-11-08-2014-990
END:VEVENT

END:VCALENDAR
