BEGIN:VCALENDAR
VERSION:2.0
PRODID:-//ChamberMaster//Event Calendar 2.0//EN
METHOD:PUBLISH
X-PUBLISHED-TTL:P3D
REFRESH-INTERVAL:P3D
CALSCALE:GREGORIAN
BEGIN:VEVENT
DTSTART:20130913T010000Z
DTEND:20130913T020000Z
X-MICROSOFT-CDO-ALLDAYEVENT:FALSE
SUMMARY:AMEM Mission Update Call #2
DESCRIPTION:USABC Energy Mission prep call to discuss logistics and planning for upcoming mission to the ASEAN Energy Ministers Meeting (AMEM) in Bali\, Indonesia\, September 24-26\, 2013.
X-ALT-DESC;FMTTYPE=text/html:USABC Energy Mission prep call to discuss logistics and planning for upcoming mission to the ASEAN Energy Ministers Meeting (AMEM) in Bali\, Indonesia\, September 24-26\, 2013.&nbsp\;
LOCATION:Dial in: Toll-free dial-in number (U.S. and Canada): (877) 505-1427 International dial-in number: (281) 319-9194 Conference code: 5935755663 Leader PIN: 0509
UID:e.9078.915
SEQUENCE:3
DTSTAMP:20260421T172258Z
URL:http://memberzone.usasean.org/events/details/amem-mission-update-call-2-09-12-2013-915
END:VEVENT

END:VCALENDAR
