BEGIN:VCALENDAR
VERSION:2.0
PRODID:-//ChamberMaster//Event Calendar 2.0//EN
METHOD:PUBLISH
X-PUBLISHED-TTL:P3D
REFRESH-INTERVAL:P3D
CALSCALE:GREGORIAN
BEGIN:VEVENT
DTSTART:20230413T130000Z
DTEND:20230413T140000Z
X-MICROSOFT-CDO-ALLDAYEVENT:FALSE
SUMMARY:AI Working Group Strategy Call
DESCRIPTION:The Council is pleased to invite you to join a strategy call for the Artificial Intelligence (AI) Working Group. Following recent AI policy and landscape developments around the world\, the Council is seeking member input as it reestablishes the AI Working Group to guide and implement its strategy on this important issue area. The call will discuss recent AI developments and opportunities for engagement as well as provide insight on the Council's past engagements and deliverables related to AI.
X-ALT-DESC;FMTTYPE=text/html:The Council is pleased to invite you to join a strategy call for the Artificial Intelligence (AI) Working Group. Following recent AI policy and landscape developments around the world\, the Council is seeking member input as it reestablishes the AI Working Group to guide and implement its strategy on this important issue area. The call will discuss recent AI developments and opportunities for engagement as well as provide insight on the Council&#39\;s past engagements and deliverables related to AI.
LOCATION:Virtual
UID:e.9078.8996
SEQUENCE:3
DTSTAMP:20260421T112038Z
URL:http://memberzone.usasean.org/events/details/ai-working-group-strategy-call-8996
END:VEVENT

END:VCALENDAR
