BEGIN:VCALENDAR
VERSION:2.0
PRODID:-//ChamberMaster//Event Calendar 2.0//EN
METHOD:PUBLISH
X-PUBLISHED-TTL:P3D
REFRESH-INTERVAL:P3D
CALSCALE:GREGORIAN
BEGIN:VEVENT
DTSTART:20210707T000000Z
DTEND:20210707T010000Z
X-MICROSOFT-CDO-ALLDAYEVENT:FALSE
SUMMARY:AI Working Group July Strategy Call
DESCRIPTION:The Council is pleased to invite you to attend its first Artificial Intelligence (AI) Working Group Strategy Call. Following its successful AI Policy Retreat\, the Council created an AI Working Group to formulate and implement its strategy on this important emerging issue area. Through regional and country-specific forums\, members will have the opportunity to engage ASEAN member states as they develop their AI ecosystems.
X-ALT-DESC;FMTTYPE=text/html:<span style="font-size:14px\;"><span style="font-family:arial\;">The Council is pleased to&nbsp\;<span style="border:1pt none windowtext\;padding:0in\;">invite</span>&nbsp\;you to attend its first Artificial Intelligence (AI) Working Group Strategy Call. Following its successful AI Policy Retreat\, the Council created an AI Working Group to formulate and implement its strategy on this important emerging issue area. Through regional and country-specific forums\, members will have the opportunity to engage ASEAN member states as they develop their AI ecosystems.</span></span><br />\n&nbsp\;
LOCATION:Virtual
UID:e.9078.8503
SEQUENCE:3
DTSTAMP:20260419T173928Z
URL:http://memberzone.usasean.org/events/details/ai-working-group-july-strategy-call-8503
END:VEVENT

END:VCALENDAR
