BEGIN:VCALENDAR
VERSION:2.0
PRODID:-//ChamberMaster//Event Calendar 2.0//EN
METHOD:PUBLISH
X-PUBLISHED-TTL:P3D
REFRESH-INTERVAL:P3D
CALSCALE:GREGORIAN
BEGIN:VEVENT
DTSTART;VALUE=DATE:20210503
DTEND;VALUE=DATE:20210508
TRANSP:TRANSPARENT
X-MICROSOFT-CDO-ALLDAYEVENT:TRUE
SUMMARY:AI Policy Retreat
DESCRIPTION:This policy retreat will convene interested members with subject matter experts\, thought leaders\, and government stakeholders to discuss and formulate a comprehensive Council strategy towards AI development and regulation in ASEAN. Given the cross-cutting nature of this issue\, a policy retreat will allow the Council and its membership to move more effectively on this issue and amplify the impacts of our future engagements with ASEAN governments
X-ALT-DESC;FMTTYPE=text/html:<span style="color:black\;"><span style="font-family:arial\,sans-serif\;"><span style="font-size:12.0pt\;">This policy retreat will convene interested members with subject matter experts\, thought leaders\, and government stakeholders to discuss and formulate a comprehensive Council strategy towards AI development and regulation in ASEAN. Given the cross-cutting nature of this issue\, a policy retreat will allow the Council and its membership to move more effectively on this issue and amplify the impacts of our future engagements with ASEAN governments</span></span></span>
LOCATION:Virtual
UID:e.9078.8431
SEQUENCE:3
DTSTAMP:20260419T210146Z
URL:http://memberzone.usasean.org/events/details/ai-policy-retreat-8431
END:VEVENT

END:VCALENDAR
