BEGIN:VCALENDAR
VERSION:2.0
PRODID:-//ChamberMaster//Event Calendar 2.0//EN
METHOD:PUBLISH
X-PUBLISHED-TTL:P3D
REFRESH-INTERVAL:P3D
CALSCALE:GREGORIAN
BEGIN:VEVENT
DTSTART:20130510T123000Z
DTEND:20130510T134500Z
X-MICROSOFT-CDO-ALLDAYEVENT:FALSE
SUMMARY:Agricultural Attaché Roundtable
DESCRIPTION:The ASEAN Agricultural Attache Roundtable is an opportunity for members of the Council to meet with the Agricultural Attaches representing the 10 ASEAN member states in Washington\, D.C. This roundtable takes place 2-3 times per year for the purpose of exchanging views and identifying a roadmap for improving the business environment in ASEAN and supporting our ASEAN friends with their efforts in the U.S.\n\n	\n\n	The primary focus of this meeting will be to present the Food & Agriculture Working Group Position Paper currently being drafted by the Council. For additional details on the paper or for the opportunity to provide input\, please e-mail Ira Sugita at isugita@usasean.org.
X-ALT-DESC;FMTTYPE=text/html:<div id="email-container">\n	<span style="font-family: arial\, helvetica\, sans-serif\; font-size: 16px\; line-height: 24px\; text-align: justify\;">The ASEAN Agricultural Attache</span><span style="font-family: arial\, helvetica\, sans-serif\; font-size: 16px\; line-height: 24px\; text-align: justify\;">&nbsp\;Roundtable is an opportunity for members of the Council to meet with the Agricultural Attaches representing the 10 ASEAN member states in Washington\, D.C. This roundtable takes place 2-3 times per year for the purpose of exchanging views and identifying a roadmap for improving the business environment in ASEAN and supporting our ASEAN friends with their efforts in the U.S.</span><br style="font-family: arial\, helvetica\, sans-serif\; font-size: 16px\; line-height: 24px\; text-align: justify\;" />\n	<br style="font-family: arial\, helvetica\, sans-serif\; font-size: 16px\; line-height: 24px\; text-align: justify\;" />\n	<span style="font-family: arial\, helvetica\, sans-serif\; font-size: 16px\; line-height: 24px\; text-align: justify\;">The primary focus of this meeting will be to present the Food &amp\; Agriculture Working Group Position Paper currently being drafted by the Council. For additional details on the paper&nbsp\;or for the opportunity to provide input\, please e-mail Ira Sugita at isugita@usasean.org.</span><br />\n	<br />\n	<br />\n	&nbsp\;</div>\n
LOCATION:Vietnamese House 2251 R Street\, N.W. Washington\, D.C. 20008
UID:e.9078.737
SEQUENCE:3
DTSTAMP:20260422T014440Z
URL:http://memberzone.usasean.org/events/details/agricultural-attach&#233;-roundtable-05-10-2013-737
END:VEVENT

END:VCALENDAR
