BEGIN:VCALENDAR
VERSION:2.0
PRODID:-//ChamberMaster//Event Calendar 2.0//EN
METHOD:PUBLISH
X-PUBLISHED-TTL:P3D
REFRESH-INTERVAL:P3D
CALSCALE:GREGORIAN
BEGIN:VEVENT
DTSTART:20221006T140000Z
DTEND:20221006T150000Z
X-MICROSOFT-CDO-ALLDAYEVENT:FALSE
SUMMARY:Aerospace\, Defense and Security Committee Meeting
DESCRIPTION:
X-ALT-DESC;FMTTYPE=text/html:
LOCATION:Zoom Meeting
UID:e.9078.8878
SEQUENCE:3
DTSTAMP:20260421T205055Z
URL:http://memberzone.usasean.org/events/details/aerospace-defense-and-security-committee-meeting-8878
END:VEVENT

END:VCALENDAR
