BEGIN:VCALENDAR
VERSION:2.0
PRODID:-//ChamberMaster//Event Calendar 2.0//EN
METHOD:PUBLISH
X-PUBLISHED-TTL:P3D
REFRESH-INTERVAL:P3D
CALSCALE:GREGORIAN
BEGIN:VEVENT
DTSTART:20140324T140000Z
DTEND:20140324T150000Z
X-MICROSOFT-CDO-ALLDAYEVENT:FALSE
SUMMARY:A Candid Discussion on Myanmar with Dr. Morten Pederson and Dr. Caballero-Anthony
DESCRIPTION:Small group discussion on Myanmar
X-ALT-DESC;FMTTYPE=text/html:Small group discussion on Myanmar
LOCATION:US-ASEAN Business Council Offices 1101 17th Street NW Suite 411 Washington D.C.
UID:e.9078.1093
SEQUENCE:3
DTSTAMP:20260420T171737Z
URL:http://memberzone.usasean.org/events/details/a-candid-discussion-on-myanmar-with-dr-morten-pederson-and-dr-caballero-anthony-03-24-2014-1093
END:VEVENT

END:VCALENDAR
