BEGIN:VCALENDAR
VERSION:2.0
PRODID:-//ChamberMaster//Event Calendar 2.0//EN
METHOD:PUBLISH
X-PUBLISHED-TTL:P3D
REFRESH-INTERVAL:P3D
CALSCALE:GREGORIAN
BEGIN:VEVENT
DTSTART:20220705T060000Z
DTEND:20220705T073000Z
X-MICROSOFT-CDO-ALLDAYEVENT:FALSE
SUMMARY:56th ASEAN National Tourism Organization (NTOs) Consultation Session with External Parties
DESCRIPTION:The US-ABC is invited to the 56th ASEAN National Tourism Organization (NTOs) Consultation Session with External Parties session on July 5\, Tuesday\, 1PM-230PM (GMT+7)\, Laos Time. However\, based on latest information\, the NTO session is not open to US-ABC members. The Council is invited to make a short presentation during the NTO session and would like to make sure that this is an opportunity to advocate and echo member key priorities. To submit talking points and slides with new information for this purpose\, please contact the the Travel and Tourism team (Lilibeth Almonte-Arbez lalmonte@usasean.org \, Pimploy Vivatanapaiboonlap pimploy@usasean.org\, Ben Djanuar bdjanuar@usasean.org \, Steven Gunawan sgunawan@usasean.org\, and Claire Lwin clwin@usasean.org .)
X-ALT-DESC;FMTTYPE=text/html:<span style="font-size:12px\;"><span class="TextRun SCXW149997679 BCX0" data-contrast="none" lang="EN-US" style="margin: 0px\; padding: 0px\; user-select: text\; -webkit-user-drag: none\; -webkit-tap-highlight-color: transparent\; font-variant-numeric: normal\; font-variant-east-asian: normal\; color: rgb(0\, 0\, 0)\; font-style: normal\; white-space: pre-wrap\; line-height: 19.425px\; font-family: &quot\;Times New Roman&quot\;\, &quot\;Times New Roman_EmbeddedFont&quot\;\, &quot\;Times New Roman_MSFontService&quot\;\, serif\;" xml:lang="EN-US"><span class="NormalTextRun SCXW149997679 BCX0" style="margin: 0px\; padding: 0px\; user-select: text\; -webkit-user-drag: none\; -webkit-tap-highlight-color: transparent\;">The US-ABC is invited to the 56th ASEAN National Tourism Organization (NTOs) Consultation Session with External Parties session on July 5\, Tuesday\, 1PM-230PM (GMT+7)\, Laos Time. However\, based on </span><span class="NormalTextRun SCXW149997679 BCX0" style="margin: 0px\; padding: 0px\; user-select: text\; -webkit-user-drag: none\; -webkit-tap-highlight-color: transparent\;">latest</span><span class="NormalTextRun SCXW149997679 BCX0" style="margin: 0px\; padding: 0px\; user-select: text\; -webkit-user-drag: none\; -webkit-tap-highlight-color: transparent\;"> information\, the NTO session is not open to US-ABC members. The Council is invited to make a short presentation during the NTO session and would like to make sure that this is an opportunity to advocate and echo </span><span class="NormalTextRun SCXW149997679 BCX0" style="margin: 0px\; padding: 0px\; user-select: text\; -webkit-user-drag: none\; -webkit-tap-highlight-color: transparent\;">member</span><span class="NormalTextRun SCXW149997679 BCX0" style="margin: 0px\; padding: 0px\; user-select: text\; -webkit-user-drag: none\; -webkit-tap-highlight-color: transparent\;"> key priorities. To submit talking points and slides with new information for this purpose\, please contact the </span></span><span class="TextRun SCXW149997679 BCX0" data-contrast="none" lang="EN-US" style="margin: 0px\; padding: 0px\; user-select: text\; -webkit-user-drag: none\; -webkit-tap-highlight-color: transparent\; font-variant-numeric: normal\; font-variant-east-asian: normal\; color: rgb(0\, 0\, 0)\; font-style: normal\; white-space: pre-wrap\; line-height: 17.2667px\; font-family: &quot\;Times New Roman&quot\;\, &quot\;Times New Roman_EmbeddedFont&quot\;\, &quot\;Times New Roman_MSFontService&quot\;\, serif\;" xml:lang="EN-US"><span class="NormalTextRun SCXW149997679 BCX0" style="margin: 0px\; padding: 0px\; user-select: text\; -webkit-user-drag: none\; -webkit-tap-highlight-color: transparent\;">the</span><span class="NormalTextRun SCXW149997679 BCX0" style="margin: 0px\; padding: 0px\; user-select: text\; -webkit-user-drag: none\; -webkit-tap-highlight-color: transparent\;"> Travel </span></span><span class="TextRun SCXW149997679 BCX0" data-contrast="none" lang="EN-US" style="margin: 0px\; padding: 0px\; user-select: text\; -webkit-user-drag: none\; -webkit-tap-highlight-color: transparent\; font-variant-numeric: normal\; font-variant-east-asian: normal\; color: rgb(0\, 0\, 0)\; font-style: normal\; white-space: pre-wrap\; line-height: 19.425px\; font-family: &quot\;Times New Roman&quot\;\, &quot\;Times New Roman_EmbeddedFont&quot\;\, &quot\;Times New Roman_MSFontService&quot\;\, serif\;" xml:lang="EN-US">and Tourism team</span><span class="TextRun SCXW149997679 BCX0" data-contrast="none" lang="EN-US" style="margin: 0px\; padding: 0px\; user-select: text\; -webkit-user-drag: none\; -webkit-tap-highlight-color: transparent\; font-variant-numeric: normal\; font-variant-east-asian: normal\; font-style: normal\; white-space: pre-wrap\; color: rgb(36\, 36\, 36)\; line-height: 19.425px\; font-family: &quot\;Segoe UI&quot\;\, &quot\;Segoe UI_EmbeddedFont&quot\;\, &quot\;Segoe UI_MSFontService&quot\;\, sans-serif\;" xml:lang="EN-US"> </span><span class="TextRun SCXW149997679 BCX0" data-contrast="none" lang="EN-US" style="margin: 0px\; padding: 0px\; user-select: text\; -webkit-user-drag: none\; -webkit-tap-highlight-color: transparent\; color: rgb(0\, 0\, 0)\; font-style: normal\; white-space: pre-wrap\; line-height: 18.3458px\; font-family: &quot\;Times New Roman&quot\;\, &quot\;Times New Roman_EmbeddedFont&quot\;\, &quot\;Times New Roman_MSFontService&quot\;\, serif\; font-variant-ligatures: none !important\;" xml:lang="EN-US">(</span><span class="TextRun SCXW149997679 BCX0" data-contrast="none" lang="EN-US" style="margin: 0px\; padding: 0px\; user-select: text\; -webkit-user-drag: none\; -webkit-tap-highlight-color: transparent\; font-style: normal\; white-space: pre-wrap\; color: rgb(50\, 49\, 48)\; line-height: 18.3458px\; font-family: &quot\;Times New Roman&quot\;\, &quot\;Times New Roman_EmbeddedFont&quot\;\, &quot\;Times New Roman_MSFontService&quot\;\, serif\; font-variant-ligatures: none !important\;" xml:lang="EN-US">L</span><span class="TextRun SCXW149997679 BCX0" data-contrast="none" lang="EN-US" style="margin: 0px\; padding: 0px\; user-select: text\; -webkit-user-drag: none\; -webkit-tap-highlight-color: transparent\; color: rgb(0\, 0\, 0)\; font-style: normal\; white-space: pre-wrap\; line-height: 19.425px\; font-family: &quot\;Times New Roman&quot\;\, &quot\;Times New Roman_EmbeddedFont&quot\;\, &quot\;Times New Roman_MSFontService&quot\;\, serif\; font-variant-ligatures: none !important\;" xml:lang="EN-US"><span class="NormalTextRun SCXW149997679 BCX0" style="margin: 0px\; padding: 0px\; user-select: text\; -webkit-user-drag: none\; -webkit-tap-highlight-color: transparent\;">ilibeth Almonte-</span><span class="NormalTextRun SCXW149997679 BCX0" style="margin: 0px\; padding: 0px\; user-select: text\; -webkit-user-drag: none\; -webkit-tap-highlight-color: transparent\;">Arbez</span><span class="NormalTextRun SCXW149997679 BCX0" style="margin: 0px\; padding: 0px\; user-select: text\; -webkit-user-drag: none\; -webkit-tap-highlight-color: transparent\;"> </span></span><a class="Hyperlink SCXW149997679 BCX0" href="mailto:lalmonte@usasean.org" rel="noreferrer noopener" style="margin: 0px\; padding: 0px\; user-select: text\; -webkit-user-drag: none\; -webkit-tap-highlight-color: transparent\; font-family: &quot\;Segoe UI&quot\;\, &quot\;Segoe UI Web&quot\;\, Arial\, Verdana\, sans-serif\; font-size: 12px\; white-space: pre-wrap\; text-decoration-line: none\; color: inherit\;" target="_blank"><span class="TextRun Underlined SCXW149997679 BCX0" data-contrast="none" lang="EN-US" style="margin: 0px\; padding: 0px\; user-select: text\; -webkit-user-drag: none\; -webkit-tap-highlight-color: transparent\; color: rgb(5\, 99\, 193)\; text-decoration-line: underline\; line-height: 19.425px\; font-family: &quot\;Times New Roman&quot\;\, &quot\;Times New Roman_EmbeddedFont&quot\;\, &quot\;Times New Roman_MSFontService&quot\;\, serif\; font-variant-ligatures: none !important\;" xml:lang="EN-US"><span class="NormalTextRun SCXW149997679 BCX0" data-ccp-charstyle="Hyperlink" style="margin: 0px\; padding: 0px\; user-select: text\; -webkit-user-drag: none\; -webkit-tap-highlight-color: transparent\;">lalmonte@usasean.org</span></span></a><span class="TextRun SCXW149997679 BCX0" data-contrast="auto" lang="EN-US" style="margin: 0px\; padding: 0px\; user-select: text\; -webkit-user-drag: none\; -webkit-tap-highlight-color: transparent\; color: rgb(0\, 0\, 0)\; font-style: normal\; white-space: pre-wrap\; line-height: 19.425px\; font-family: &quot\;Times New Roman&quot\;\, &quot\;Times New Roman_EmbeddedFont&quot\;\, &quot\;Times New Roman_MSFontService&quot\;\, serif\; font-variant-ligatures: none !important\;" xml:lang="EN-US"> \, </span><span class="TextRun SCXW149997679 BCX0" data-contrast="none" lang="EN-US" style="margin: 0px\; padding: 0px\; user-select: text\; -webkit-user-drag: none\; -webkit-tap-highlight-color: transparent\; color: rgb(0\, 0\, 0)\; font-style: normal\; white-space: pre-wrap\; line-height: 19.425px\; font-family: &quot\;Times New Roman&quot\;\, &quot\;Times New Roman_EmbeddedFont&quot\;\, &quot\;Times New Roman_MSFontService&quot\;\, serif\; font-variant-ligatures: none !important\;" xml:lang="EN-US"><span class="NormalTextRun SCXW149997679 BCX0" style="margin: 0px\; padding: 0px\; user-select: text\; -webkit-user-drag: none\; -webkit-tap-highlight-color: transparent\;">Pimploy</span><span class="NormalTextRun SCXW149997679 BCX0" style="margin: 0px\; padding: 0px\; user-select: text\; -webkit-user-drag: none\; -webkit-tap-highlight-color: transparent\;"> </span><span class="NormalTextRun SCXW149997679 BCX0" style="margin: 0px\; padding: 0px\; user-select: text\; -webkit-user-drag: none\; -webkit-tap-highlight-color: transparent\;">Vivatanapaiboonlap</span><span class="NormalTextRun SCXW149997679 BCX0" style="margin: 0px\; padding: 0px\; user-select: text\; -webkit-user-drag: none\; -webkit-tap-highlight-color: transparent\;"> </span></span><a class="Hyperlink SCXW149997679 BCX0" href="mailto:pimploy@usasean.org" rel="noreferrer noopener" style="margin: 0px\; padding: 0px\; user-select: text\; -webkit-user-drag: none\; -webkit-tap-highlight-color: transparent\; font-family: &quot\;Segoe UI&quot\;\, &quot\;Segoe UI Web&quot\;\, Arial\, Verdana\, sans-serif\; font-size: 12px\; white-space: pre-wrap\; text-decoration-line: none\; color: inherit\;" target="_blank"><span class="TextRun Underlined SCXW149997679 BCX0" data-contrast="none" lang="EN-US" style="margin: 0px\; padding: 0px\; user-select: text\; -webkit-user-drag: none\; -webkit-tap-highlight-color: transparent\; color: rgb(5\, 99\, 193)\; text-decoration-line: underline\; line-height: 19.425px\; font-family: &quot\;Times New Roman&quot\;\, &quot\;Times New Roman_EmbeddedFont&quot\;\, &quot\;Times New Roman_MSFontService&quot\;\, serif\; font-variant-ligatures: none !important\;" xml:lang="EN-US"><span class="NormalTextRun SCXW149997679 BCX0" data-ccp-charstyle="Hyperlink" style="margin: 0px\; padding: 0px\; user-select: text\; -webkit-user-drag: none\; -webkit-tap-highlight-color: transparent\;">pimploy@usasean.org</span></span></a><span class="TextRun SCXW149997679 BCX0" data-contrast="auto" lang="EN-US" style="margin: 0px\; padding: 0px\; user-select: text\; -webkit-user-drag: none\; -webkit-tap-highlight-color: transparent\; color: rgb(0\, 0\, 0)\; font-style: normal\; white-space: pre-wrap\; line-height: 19.425px\; font-family: &quot\;Times New Roman&quot\;\, &quot\;Times New Roman_EmbeddedFont&quot\;\, &quot\;Times New Roman_MSFontService&quot\;\, serif\; font-variant-ligatures: none !important\;" xml:lang="EN-US">\, </span><span class="TextRun SCXW149997679 BCX0" data-contrast="none" lang="EN-US" style="margin: 0px\; padding: 0px\; user-select: text\; -webkit-user-drag: none\; -webkit-tap-highlight-color: transparent\; font-style: normal\; white-space: pre-wrap\; color: rgb(50\, 49\, 48)\; line-height: 19.425px\; font-family: &quot\;Times New Roman&quot\;\, &quot\;Times New Roman_EmbeddedFont&quot\;\, &quot\;Times New Roman_MSFontService&quot\;\, serif\; font-variant-ligatures: none !important\;" xml:lang="EN-US"><span class="NormalTextRun SCXW149997679 BCX0" style="margin: 0px\; padding: 0px\; user-select: text\; -webkit-user-drag: none\; -webkit-tap-highlight-color: transparent\;">Ben </span><span class="NormalTextRun SCXW149997679 BCX0" style="margin: 0px\; padding: 0px\; user-select: text\; -webkit-user-drag: none\; -webkit-tap-highlight-color: transparent\;">Djanuar</span><span class="NormalTextRun SCXW149997679 BCX0" style="margin: 0px\; padding: 0px\; user-select: text\; -webkit-user-drag: none\; -webkit-tap-highlight-color: transparent\;"> </span></span><a class="Hyperlink SCXW149997679 BCX0" href="mailto:bdjanuar@usasean.org" rel="noreferrer noopener" style="margin: 0px\; padding: 0px\; user-select: text\; -webkit-user-drag: none\; -webkit-tap-highlight-color: transparent\; font-family: &quot\;Segoe UI&quot\;\, &quot\;Segoe UI Web&quot\;\, Arial\, Verdana\, sans-serif\; font-size: 12px\; white-space: pre-wrap\; text-decoration-line: none\; color: inherit\;" target="_blank"><span class="TextRun Underlined SCXW149997679 BCX0" data-contrast="none" lang="EN-US" style="margin: 0px\; padding: 0px\; user-select: text\; -webkit-user-drag: none\; -webkit-tap-highlight-color: transparent\; color: rgb(5\, 99\, 193)\; text-decoration-line: underline\; line-height: 19.425px\; font-family: &quot\;Times New Roman&quot\;\, &quot\;Times New Roman_EmbeddedFont&quot\;\, &quot\;Times New Roman_MSFontService&quot\;\, serif\; font-variant-ligatures: none !important\;" xml:lang="EN-US"><span class="NormalTextRun SCXW149997679 BCX0" data-ccp-charstyle="Hyperlink" style="margin: 0px\; padding: 0px\; user-select: text\; -webkit-user-drag: none\; -webkit-tap-highlight-color: transparent\;">bdjanuar@usasean.org</span></span></a><span class="TextRun SCXW149997679 BCX0" data-contrast="auto" lang="EN-US" style="margin: 0px\; padding: 0px\; user-select: text\; -webkit-user-drag: none\; -webkit-tap-highlight-color: transparent\; color: rgb(0\, 0\, 0)\; font-style: normal\; white-space: pre-wrap\; line-height: 19.425px\; font-family: &quot\;Times New Roman&quot\;\, &quot\;Times New Roman_EmbeddedFont&quot\;\, &quot\;Times New Roman_MSFontService&quot\;\, serif\; font-variant-ligatures: none !important\;" xml:lang="EN-US"> \, </span><span class="TextRun SCXW149997679 BCX0" data-contrast="none" lang="EN-US" style="margin: 0px\; padding: 0px\; user-select: text\; -webkit-user-drag: none\; -webkit-tap-highlight-color: transparent\; color: rgb(0\, 0\, 0)\; font-style: normal\; white-space: pre-wrap\; line-height: 19.425px\; font-family: &quot\;Times New Roman&quot\;\, &quot\;Times New Roman_EmbeddedFont&quot\;\, &quot\;Times New Roman_MSFontService&quot\;\, serif\; font-variant-ligatures: none !important\;" xml:lang="EN-US">Steven Gunawan </span><a class="Hyperlink SCXW149997679 BCX0" href="mailto:sgunawan@usasean.org" rel="noreferrer noopener" style="margin: 0px\; padding: 0px\; user-select: text\; -webkit-user-drag: none\; -webkit-tap-highlight-color: transparent\; font-family: &quot\;Segoe UI&quot\;\, &quot\;Segoe UI Web&quot\;\, Arial\, Verdana\, sans-serif\; font-size: 12px\; white-space: pre-wrap\; text-decoration-line: none\; color: inherit\;" target="_blank"><span class="TextRun Underlined SCXW149997679 BCX0" data-contrast="none" lang="EN-US" style="margin: 0px\; padding: 0px\; user-select: text\; -webkit-user-drag: none\; -webkit-tap-highlight-color: transparent\; color: rgb(5\, 99\, 193)\; text-decoration-line: underline\; line-height: 19.425px\; font-family: &quot\;Times New Roman&quot\;\, &quot\;Times New Roman_EmbeddedFont&quot\;\, &quot\;Times New Roman_MSFontService&quot\;\, serif\; font-variant-ligatures: none !important\;" xml:lang="EN-US"><span class="NormalTextRun SCXW149997679 BCX0" data-ccp-charstyle="Hyperlink" style="margin: 0px\; padding: 0px\; user-select: text\; -webkit-user-drag: none\; -webkit-tap-highlight-color: transparent\;">sgunawan@usasean.org</span></span></a>\,<span class="TextRun SCXW149997679 BCX0" data-contrast="auto" lang="EN-US" style="margin: 0px\; padding: 0px\; user-select: text\; -webkit-user-drag: none\; -webkit-tap-highlight-color: transparent\; color: rgb(0\, 0\, 0)\; font-style: normal\; white-space: pre-wrap\; line-height: 19.425px\; font-family: &quot\;Times New Roman&quot\;\, &quot\;Times New Roman_EmbeddedFont&quot\;\, &quot\;Times New Roman_MSFontService&quot\;\, serif\; font-variant-ligatures: none !important\;" xml:lang="EN-US"> and Claire Lwin </span><a class="Hyperlink SCXW149997679 BCX0" href="mailto:clwin@usasean.org" rel="noreferrer noopener" style="margin: 0px\; padding: 0px\; user-select: text\; -webkit-user-drag: none\; -webkit-tap-highlight-color: transparent\; font-family: &quot\;Segoe UI&quot\;\, &quot\;Segoe UI Web&quot\;\, Arial\, Verdana\, sans-serif\; font-size: 12px\; white-space: pre-wrap\; text-decoration-line: none\; color: inherit\;" target="_blank"><span class="TextRun Underlined SCXW149997679 BCX0" data-contrast="none" lang="EN-US" style="margin: 0px\; padding: 0px\; user-select: text\; -webkit-user-drag: none\; -webkit-tap-highlight-color: transparent\; color: rgb(5\, 99\, 193)\; text-decoration-line: underline\; line-height: 19.425px\; font-family: &quot\;Times New Roman&quot\;\, &quot\;Times New Roman_EmbeddedFont&quot\;\, &quot\;Times New Roman_MSFontService&quot\;\, serif\; font-variant-ligatures: none !important\;" xml:lang="EN-US"><span class="NormalTextRun SCXW149997679 BCX0" data-ccp-charstyle="Hyperlink" style="margin: 0px\; padding: 0px\; user-select: text\; -webkit-user-drag: none\; -webkit-tap-highlight-color: transparent\;">clwin@usasean.org</span></span></a><span class="TextRun SCXW149997679 BCX0" data-contrast="auto" lang="EN-US" style="margin: 0px\; padding: 0px\; user-select: text\; -webkit-user-drag: none\; -webkit-tap-highlight-color: transparent\; color: rgb(0\, 0\, 0)\; font-style: normal\; white-space: pre-wrap\; line-height: 19.425px\; font-family: &quot\;Times New Roman&quot\;\, &quot\;Times New Roman_EmbeddedFont&quot\;\, &quot\;Times New Roman_MSFontService&quot\;\, serif\; font-variant-ligatures: none !important\;" xml:lang="EN-US"> .)</span><span class="EOP SCXW149997679 BCX0" data-ccp-props="{&quot\;201341983&quot\;:0\,&quot\;335559739&quot\;:160\,&quot\;335559740&quot\;:259}" style="margin: 0px\; padding: 0px\; user-select: text\; -webkit-user-drag: none\; -webkit-tap-highlight-color: transparent\; color: rgb(0\, 0\, 0)\; white-space: pre-wrap\; line-height: 19.425px\; font-family: &quot\;Times New Roman&quot\;\, &quot\;Times New Roman_EmbeddedFont&quot\;\, &quot\;Times New Roman_MSFontService&quot\;\, serif\;">&nbsp\;</span></span>
LOCATION:Virtual
UID:e.9078.8810
SEQUENCE:3
DTSTAMP:20260422T015050Z
URL:http://memberzone.usasean.org/events/details/56th-asean-national-tourism-organization-ntos-consultation-session-with-external-parties-8810
END:VEVENT

END:VCALENDAR
