BEGIN:VCALENDAR
VERSION:2.0
PRODID:-//ChamberMaster//Event Calendar 2.0//EN
METHOD:PUBLISH
X-PUBLISHED-TTL:P3D
REFRESH-INTERVAL:P3D
CALSCALE:GREGORIAN
BEGIN:VEVENT
DTSTART:20221011T010000Z
DTEND:20221011T020000Z
X-MICROSOFT-CDO-ALLDAYEVENT:FALSE
SUMMARY:44 AMAF First Planning Call
DESCRIPTION:The Council looks forward to our First Planning Call for the 2022 Virtual Business Mission to the 44 AMAF. The Virtual Mission to the 44 AMAF will take place from October 26 - November 11 and will be chaired by the Ministry of Agriculture and Forestry of Lao PDR. The call will look to provide an overview of the 44 AMAF\, discuss presentation topics for the Plenary Session on the 26 of October\, and prioritize bilateral meetings for the mission.\n\n\n\nRegistration for the 44 AMAF is open\, and will close by Monday\, October 17. More more information and to register for the mission click here.\n\n\n\nProposed Call Agenda:\n\n\n	Opening Remarks\n\n	\n		  USABC\n		F&A Committee Chair\n	\n	\n	Overview of Virtual Mission to 44 AMAF\n	Review of proposed presentation agenda\n	Priority setting for bilateral meetings\n\n\n\n\nProposed Mission Meetings:\n\n\n\nThe following meetings have been proposed. However\, given possible conflicts with other Council engagements\, we urge members to indicate the priority of meetings in the Business Mission Manager. Additional meetings can be proposed but will be subject to member interest.\n\n\n	USDA/FAS\n	Ministry of Agriculture   Indonesia\n	Ministry of Agriculture and Forestry   Lao PDR (Chair)\n	Ministry of Agriculture and Good Industry   Malaysia (Vice-Chair)\n	Department of Agriculture   Philippines\n	Ministry of Agriculture and Cooperatives   Thailand\n	Ministry of Agriculture and Rural Development   Vietnam
X-ALT-DESC;FMTTYPE=text/html:<div style="font-size: 16px\;"><span style="font-family: arial\;">The Council looks forward to our First Planning Call for the 2022 Virtual Business Mission to the 44 AMAF. The Virtual&nbsp\;Mission to the 44 AMAF will take place from&nbsp\;<strong>October 26 - November 11&nbsp\;</strong>and will be chaired by the Ministry of Agriculture and Forestry of Lao PDR. The call will&nbsp\;look to provide an overview of the 44 AMAF\,&nbsp\;discuss presentation topics for the Plenary Session on the 26 of October\, and prioritize bilateral meetings for the mission.<br />\n<br />\n<strong>Registration for the 44 AMAF is open\, and will close by Monday\, October 17. More more information and to register for the mission&nbsp\;<a href="https://www.usasean.org/mission/registration">click here</a>.</strong></span><br />\n<br />\n<b>Proposed Call Agenda:</b></div>\n\n<ol style="font-size: 16px\; text-align: center\;">\n	<li style="text-align: left\;"><strong>Opening Remarks</strong>\n\n	<ul>\n		<li style="text-align: left\;"><strong>&#8203\;&#8203\;</strong>USABC</li>\n		<li style="text-align: left\;">F&amp\;A Committee Chair</li>\n	</ul>\n	</li>\n	<li style="text-align: left\;"><b>Overview of Virtual Mission to 44 AMAF</b></li>\n	<li style="text-align: left\;"><b>Review of proposed presentation agenda</b></li>\n	<li style="text-align: left\;"><b>Priority setting for bilateral meetings</b></li>\n</ol>\n\n<div style="font-size: 16px\;"><br />\n<b>Proposed Mission Meetings:</b><br />\n<br />\nThe following meetings have been proposed. However\, given possible conflicts with other Council engagements\, we urge members to indicate the priority of meetings in the Business Mission Manager. Additional meetings can be proposed but will be subject to member interest.</div>\n\n<ul style="font-size: 16px\; text-align: center\;">\n	<li style="font-size: 12pt\; font-family: Calibri\, sans-serif\; color: rgb(32\, 31\, 30)\; text-align: justify\;"><span style="font-family: arial\;">USDA/FAS</span></li>\n	<li style="font-size: 12pt\; font-family: Calibri\, sans-serif\; color: rgb(32\, 31\, 30)\; text-align: justify\;"><span style="font-family: arial\;">Ministry of Agriculture &ndash\; Indonesia</span></li>\n	<li style="font-size: 12pt\; font-family: Calibri\, sans-serif\; color: rgb(32\, 31\, 30)\; text-align: justify\;"><span style="font-family: arial\;">Ministry of Agriculture and Forestry &ndash\; Lao PDR (Chair)</span></li>\n	<li style="font-size: 12pt\; font-family: Calibri\, sans-serif\; color: rgb(32\, 31\, 30)\; text-align: justify\;"><span style="font-family: arial\;">Ministry of Agriculture and Good Industry &ndash\; Malaysia (Vice-Chair)</span></li>\n	<li style="font-size: 12pt\; font-family: Calibri\, sans-serif\; color: rgb(32\, 31\, 30)\; text-align: justify\;"><span style="font-family: arial\;">Department of Agriculture &ndash\; Philippines</span></li>\n	<li style="font-size: 12pt\; font-family: Calibri\, sans-serif\; color: rgb(32\, 31\, 30)\; text-align: justify\;"><span style="font-family: arial\;">Ministry of Agriculture and Cooperatives &ndash\; Thailand</span></li>\n	<li style="font-size: 12pt\; font-family: Calibri\, sans-serif\; color: rgb(32\, 31\, 30)\; text-align: justify\;"><span style="font-family: arial\;">Ministry of Agriculture and Rural Development &ndash\; Vietnam</span></li>\n</ul>\n
LOCATION:Zoom Conference
UID:e.9078.8885
SEQUENCE:3
DTSTAMP:20260421T204700Z
URL:http://memberzone.usasean.org/events/details/44-amaf-first-planning-call-8885
END:VEVENT

END:VCALENDAR
