BEGIN:VCALENDAR
VERSION:2.0
PRODID:-//ChamberMaster//Event Calendar 2.0//EN
METHOD:PUBLISH
X-PUBLISHED-TTL:P3D
REFRESH-INTERVAL:P3D
CALSCALE:GREGORIAN
BEGIN:VEVENT
DTSTART:20130918T133000Z
DTEND:20130918T143000Z
X-MICROSOFT-CDO-ALLDAYEVENT:FALSE
SUMMARY:3Q Coffee Discussion with Ambassador Cuisia
DESCRIPTION:The US-ASEAN Business Council is pleased to invite you to a members coffee discussion with the Ambassador of the Philippines to the United States\, H.E. Jose L. Cuisia Jr.\, and his Embassy Economic Team.  This discussion series with the Philippine Embassy  serves as an excellent opportunity for the Ambassador and his economic officers to familiarize themselves with Council members and company business interests in the Philippines.
X-ALT-DESC;FMTTYPE=text/html:<span style="color:#333333\;"><span style="font-family:arial\,sans-serif\;"><span style="font-size:12.0pt\;">The US-ASEAN Business Council is pleased to invite you to a members coffee discussion with the Ambassador of the Philippines to the United States\, <a href="http://www.philippineembassy-usa.org/philippines-dc/embassy-dc/the-ambassador-dc/ambassadors-bio-dc/">H.E. Jose L. Cuisia Jr</a>.\, and his Embassy Economic Team.&nbsp\; This discussion series with the Philippine Embassy &nbsp\;serves as an excellent opportunity for the Ambassador and his economic officers to familiarize themselves with Council members and company business interests in the Philippines. &nbsp\;</span></span></span>
LOCATION:US-ASEAN Business Council 1101 17th Street\, NW\, Ste. 411 Washington\, DC 20036
UID:e.9078.914
SEQUENCE:3
DTSTAMP:20260421T173610Z
URL:http://memberzone.usasean.org/events/details/3q-coffee-discussion-with-ambassador-cuisia-09-18-2013-914
END:VEVENT

END:VCALENDAR
