BEGIN:VCALENDAR
VERSION:2.0
PRODID:-//ChamberMaster//Event Calendar 2.0//EN
METHOD:PUBLISH
X-PUBLISHED-TTL:P3D
REFRESH-INTERVAL:P3D
CALSCALE:GREGORIAN
BEGIN:VEVENT
DTSTART:20220816T000000Z
DTEND:20220816T013000Z
X-MICROSOFT-CDO-ALLDAYEVENT:FALSE
SUMMARY:35th Congressional Staff Delegation Visit to Singapore
DESCRIPTION:Visit of 35th Congressional Staff Delegation to Singapore
X-ALT-DESC;FMTTYPE=text/html:Visit of 35th Congressional Staff Delegation to Singapore
LOCATION:
UID:e.9078.8840
SEQUENCE:3
DTSTAMP:20260422T000251Z
URL:http://memberzone.usasean.org/events/details/35th-congressional-staff-delegation-visit-to-singapore-8840
END:VEVENT

END:VCALENDAR
