BEGIN:VCALENDAR
VERSION:2.0
PRODID:-//ChamberMaster//Event Calendar 2.0//EN
METHOD:PUBLISH
X-PUBLISHED-TTL:P3D
REFRESH-INTERVAL:P3D
CALSCALE:GREGORIAN
BEGIN:VEVENT
DTSTART;VALUE=DATE:20130713
DTEND;VALUE=DATE:20130717
TRANSP:TRANSPARENT
X-MICROSOFT-CDO-ALLDAYEVENT:TRUE
SUMMARY:34th Senior Officials Meeting of ASEAN Ministers on Agriculture and Forestry
DESCRIPTION:
X-ALT-DESC;FMTTYPE=text/html:
LOCATION:
UID:e.9078.861
SEQUENCE:3
DTSTAMP:20260421T205439Z
URL:http://memberzone.usasean.org/events/details/34th-senior-officials-meeting-of-asean-ministers-on-agriculture-and-forestry-07-13-2013-861
END:VEVENT

END:VCALENDAR
