BEGIN:VCALENDAR
VERSION:2.0
PRODID:-//ChamberMaster//Event Calendar 2.0//EN
METHOD:PUBLISH
X-PUBLISHED-TTL:P3D
REFRESH-INTERVAL:P3D
CALSCALE:GREGORIAN
BEGIN:VEVENT
DTSTART;VALUE=DATE:20140618
DTEND;VALUE=DATE:20140619
TRANSP:TRANSPARENT
X-MICROSOFT-CDO-ALLDAYEVENT:TRUE
SUMMARY:2nd Quarterly Indonesia Committee Call
DESCRIPTION:During the call we will review the Indonesia Committee's priorities as well as upcoming events and opportunities. We will also hear from our new Indonesia Committee Chair\, the Coca-Cola Company. The call will also include a brief update on the Indonesian elections. \n\n\n\nThe U.S. Embassy has been invited to give a briefing. Participation and specific official to be confirmed
X-ALT-DESC;FMTTYPE=text/html:<span style="font-size:14px\;"><span style="color:#000000\;">During the call we will review the Indonesia Committee&rsquo\;s priorities as well as upcoming events and opportunities. We will also hear from our new Indonesia Committee Chair\, the Coca-Cola Company. The call will also include a brief update on the Indonesian elections.&nbsp\;<br />\n<br />\nThe U.S. Embassy has been invited to give a briefing. Participation and specific official to be confirmed</span></span>
LOCATION:
UID:e.9078.1159
SEQUENCE:3
DTSTAMP:20260420T103310Z
URL:http://memberzone.usasean.org/events/details/2nd-quarterly-indonesia-committee-call-06-18-2014-1159
END:VEVENT

END:VCALENDAR
