BEGIN:VCALENDAR
VERSION:2.0
PRODID:-//ChamberMaster//Event Calendar 2.0//EN
METHOD:PUBLISH
X-PUBLISHED-TTL:P3D
REFRESH-INTERVAL:P3D
CALSCALE:GREGORIAN
BEGIN:VEVENT
DTSTART:20191209T010000Z
DTEND:20191209T020000Z
X-MICROSOFT-CDO-ALLDAYEVENT:FALSE
SUMMARY:2nd Planning Call for Business Mission to the 2020 Meeting of ASEAN Tourism Ministers (M-ATM)
DESCRIPTION:
X-ALT-DESC;FMTTYPE=text/html:
LOCATION:
UID:e.9078.8093
SEQUENCE:3
DTSTAMP:20260424T183400Z
URL:http://memberzone.usasean.org/events/details/2nd-planning-call-for-business-mission-to-the-2020-meeting-of-asean-tourism-ministers-m-atm-8093
END:VEVENT

END:VCALENDAR
