BEGIN:VCALENDAR
VERSION:2.0
PRODID:-//ChamberMaster//Event Calendar 2.0//EN
METHOD:PUBLISH
X-PUBLISHED-TTL:P3D
REFRESH-INTERVAL:P3D
CALSCALE:GREGORIAN
BEGIN:VEVENT
DTSTART:20200819T130000Z
DTEND:20200819T141500Z
X-MICROSOFT-CDO-ALLDAYEVENT:FALSE
SUMMARY:2nd Planning Call: 2020 Virtual Business Mission to the 52nd ASEAN Economic Ministers (AEM) Meeting
DESCRIPTION:The second planning call for the 2020 Virtual Business Mission to the 52nd ASEAN Economic Ministers (AEM) Meeting
X-ALT-DESC;FMTTYPE=text/html:The second planning call for the 2020 Virtual Business Mission to the 52nd ASEAN Economic Ministers (AEM) Meeting
LOCATION:Dial-in details will be distributed to registrants prior to the call
UID:e.9078.8273
SEQUENCE:3
DTSTAMP:20260420T111749Z
URL:http://memberzone.usasean.org/events/details/2nd-planning-call-2020-virtual-business-mission-to-the-52nd-asean-economic-ministers-aem-meeting-8273
END:VEVENT

END:VCALENDAR
