BEGIN:VCALENDAR
VERSION:2.0
PRODID:-//ChamberMaster//Event Calendar 2.0//EN
METHOD:PUBLISH
X-PUBLISHED-TTL:P3D
REFRESH-INTERVAL:P3D
CALSCALE:GREGORIAN
BEGIN:VEVENT
DTSTART:20180815T080000Z
DTEND:20180815T103000Z
X-MICROSOFT-CDO-ALLDAYEVENT:FALSE
SUMMARY:2nd Meeting of the Singapore Joint Cyber Security Working Group
DESCRIPTION:The Council is pleased to invite you to the second meeting of the Singapore Joint Cyber Security Working Group (JCSWG)\, a collaboration between Singapore's Cyber Security Agency (CSA)\, the U.S. Embassy in Singapore\, and the U.S. private sector (as represented by AmCham Singapore\, BSA\, and the Council). The second meeting will focus on the strategy for building up national capabilities and infrastructure for cybersecurity and explore programs and initiatives of mutual interest and potential cooperation in this area (click here to access a tentative agenda for the JCSWG meeting).\n\n\n\nThe JCSWG meeting participants will include ASEAN officials attending a third-country training program on cybersecurity (TCTP) in Singapore on August 13-16 organized by the US government (USG) and CSA. There will be opportunities for Members to present on the ASEAN cybersecurity threat landscape as well as strategies for addressing such threats at the JCSWG meeting. Members may also take part in a panel on Cybersecurity Standards that Attract & Grow Businesses at the TCTP on August 15. If you are interested in these opportunities\, please contact Sunita Kapoor (skapoor@usasean.org) by COB August 3.\n\n\n\nThe deadline to RSVP is COB August 3. Participation is limited to ONE representative per company on a first-come-first serve basis. Please contact Sunita Kapoor (skapoor@usasean.org) with any questions.
X-ALT-DESC;FMTTYPE=text/html:<span style="color:black\;"><span style="font-family:arial\,sans-serif\;"><span style="font-size:12.0pt\;">The Council is pleased to invite you to the second meeting of the Singapore Joint Cyber Security Working Group (JCSWG)\, a collaboration between Singapore&#39\;s Cyber Security Agency (CSA)\, the U.S. Embassy in Singapore\, and</span></span></span><span style="font-family:arial\,sans-serif\;"><span style="font-size:12.0pt\;"> the U.S. private sector (as represented by AmCham Singapore\, BSA\, and the Council). The second meeting&nbsp\;will focus on the strategy for building up national capabilities and infrastructure for cybersecurity and explore programs and initiatives of mutual interest and potential cooperation in this area (click <a href="https://chambermaster.blob.core.windows.net/userfiles/UserFiles/chambers/9078/File/JCSWGMeetinginAugust.pdf">here </a>to access a tentative agenda for the JCSWG meeting).<br />\n<br />\nThe JCSWG meeting participants will include ASEAN officials attending a third-country training program on cybersecurity (TCTP) in Singapore on August 13-16 organized by the US government (USG) and CSA.&nbsp\;There will be opportunities for Members to present on the ASEAN cybersecurity threat landscape as well as strategies for addressing such threats at the JCSWG meeting.&nbsp\;Members may also take part in a panel on Cybersecurity Standards that Attract &amp\; Grow Businesses at the TCTP on August 15.&nbsp\;<span style="color:black\;">If</span> you are interested in these opportunities\, please contact&nbsp\;Sunita&nbsp\;Kapoor (<a href="mailto:skapoor@usasean.org">skapoor@usasean.org</a>) by COB August 3.<br />\n<br />\n<strong>The deadline to RSVP is COB August 3. Participation is limited to ONE representative per company on a first-come-first serve basis.&nbsp\;</strong>Please contact Sunita&nbsp\;Kapoor (<a href="mailto:skapoor@usasean.org">skapoor@usasean.org</a>)&nbsp\;with any questions.</span></span>
LOCATION:Copthorne King's Hotel Singapore 403 Havelock Road\, Singapore 169632
UID:e.9078.7632
SEQUENCE:3
DTSTAMP:20260420T050312Z
URL:http://memberzone.usasean.org/events/details/2nd-meeting-of-the-singapore-joint-cyber-security-working-group-7632
END:VEVENT

END:VCALENDAR
