BEGIN:VCALENDAR
VERSION:2.0
PRODID:-//ChamberMaster//Event Calendar 2.0//EN
METHOD:PUBLISH
X-PUBLISHED-TTL:P3D
REFRESH-INTERVAL:P3D
CALSCALE:GREGORIAN
BEGIN:VEVENT
DTSTART:20200310T010000Z
DTEND:20200310T020000Z
X-MICROSOFT-CDO-ALLDAYEVENT:FALSE
SUMMARY:2nd 2020 AFMGM Planning Call
DESCRIPTION:2nd 2020 AFMGM Planning Call
X-ALT-DESC;FMTTYPE=text/html:2nd 2020 AFMGM Planning Call&nbsp\;
LOCATION:
UID:e.9078.8157
SEQUENCE:3
DTSTAMP:20260424T055217Z
URL:http://memberzone.usasean.org/events/details/2nd-2020-afmgm-planning-call-8157
END:VEVENT

END:VCALENDAR
