BEGIN:VCALENDAR
VERSION:2.0
PRODID:-//ChamberMaster//Event Calendar 2.0//EN
METHOD:PUBLISH
X-PUBLISHED-TTL:P3D
REFRESH-INTERVAL:P3D
CALSCALE:GREGORIAN
BEGIN:VEVENT
DTSTART:20220921T020000Z
DTEND:20220921T030000Z
X-MICROSOFT-CDO-ALLDAYEVENT:FALSE
SUMMARY:28 ATM 1st Planning Call
DESCRIPTION:28 ATM 1st Planning Call
X-ALT-DESC;FMTTYPE=text/html:28 ATM 1st Planning Call
LOCATION:
UID:e.9078.8863
SEQUENCE:3
DTSTAMP:20260421T222438Z
URL:http://memberzone.usasean.org/events/details/28-atm-1st-planning-call-8863
END:VEVENT

END:VCALENDAR
