BEGIN:VCALENDAR
VERSION:2.0
PRODID:-//ChamberMaster//Event Calendar 2.0//EN
METHOD:PUBLISH
X-PUBLISHED-TTL:P3D
REFRESH-INTERVAL:P3D
CALSCALE:GREGORIAN
BEGIN:VEVENT
DTSTART;VALUE=DATE:20150317
DTEND;VALUE=DATE:20150318
TRANSP:TRANSPARENT
X-MICROSOFT-CDO-ALLDAYEVENT:TRUE
SUMMARY:20th Anniversary U.S.-Vietnam Trade Reception (Hanoi)
DESCRIPTION:
X-ALT-DESC;FMTTYPE=text/html:
LOCATION:
UID:e.9078.1378
SEQUENCE:3
DTSTAMP:20260419T185749Z
URL:http://memberzone.usasean.org/events/details/20th-anniversary-u-s-vietnam-trade-reception-hanoi-03-17-2015-1378
END:VEVENT

END:VCALENDAR
