BEGIN:VCALENDAR
VERSION:2.0
PRODID:-//ChamberMaster//Event Calendar 2.0//EN
METHOD:PUBLISH
X-PUBLISHED-TTL:P3D
REFRESH-INTERVAL:P3D
CALSCALE:GREGORIAN
BEGIN:VEVENT
DTSTART:20230228T010000Z
DTEND:20230228T023000Z
X-MICROSOFT-CDO-ALLDAYEVENT:FALSE
SUMMARY:2023 Q1 Standards Committee Meeting
DESCRIPTION:
X-ALT-DESC;FMTTYPE=text/html:
LOCATION:
UID:e.9078.8962
SEQUENCE:3
DTSTAMP:20260421T143024Z
URL:http://memberzone.usasean.org/events/details/2023-q1-standards-committee-meeting-8962
END:VEVENT

END:VCALENDAR
