BEGIN:VCALENDAR
VERSION:2.0
PRODID:-//ChamberMaster//Event Calendar 2.0//EN
METHOD:PUBLISH
X-PUBLISHED-TTL:P3D
REFRESH-INTERVAL:P3D
CALSCALE:GREGORIAN
BEGIN:VEVENT
DTSTART;VALUE=DATE:20221026
DTEND;VALUE=DATE:20221112
TRANSP:TRANSPARENT
X-MICROSOFT-CDO-ALLDAYEVENT:TRUE
SUMMARY:2022 Virtual Business Mission to the 44 ASEAN Ministers Meeting on Agriculture and Forestry (44 AMAF)
DESCRIPTION:
X-ALT-DESC;FMTTYPE=text/html:
LOCATION:
UID:e.9078.8869
SEQUENCE:3
DTSTAMP:20260421T205536Z
URL:http://memberzone.usasean.org/events/details/2022-virtual-business-mission-to-the-44-asean-ministers-meeting-on-agriculture-and-forestry-44-amaf-8869
END:VEVENT

END:VCALENDAR
