BEGIN:VCALENDAR
VERSION:2.0
PRODID:-//ChamberMaster//Event Calendar 2.0//EN
METHOD:PUBLISH
X-PUBLISHED-TTL:P3D
REFRESH-INTERVAL:P3D
CALSCALE:GREGORIAN
BEGIN:VEVENT
DTSTART:20220720T010000Z
DTEND:20220720T020000Z
X-MICROSOFT-CDO-ALLDAYEVENT:FALSE
SUMMARY:2022 Travel & Tourism Q3 Committee Call
DESCRIPTION:
X-ALT-DESC;FMTTYPE=text/html:
LOCATION:Location: Zoom
UID:e.9078.8817
SEQUENCE:3
DTSTAMP:20260422T015057Z
URL:http://memberzone.usasean.org/events/details/2022-travel-tourism-q3-committee-call-8817
END:VEVENT

END:VCALENDAR
