BEGIN:VCALENDAR
VERSION:2.0
PRODID:-//ChamberMaster//Event Calendar 2.0//EN
METHOD:PUBLISH
X-PUBLISHED-TTL:P3D
REFRESH-INTERVAL:P3D
CALSCALE:GREGORIAN
BEGIN:VEVENT
DTSTART;VALUE=DATE:20221025
DTEND;VALUE=DATE:20221029
TRANSP:TRANSPARENT
X-MICROSOFT-CDO-ALLDAYEVENT:TRUE
SUMMARY:2022 Singapore International Energy Week (SIEW)
DESCRIPTION:The Council is a supporting organization for the Singapore International Energy Week (SIEW) which is an annual platform for energy professionals\, policymakers and commentators to discuss and share best practices and solutions within the global energy space. First held in 2008\, attendance at SIEW has grown from 2\,500 to over 20\,000 participants and 300 speakers globally\, and more than 80 countries represented at SIEW 2021.\n\n \n\nThis year\, SIEW 2022 will run as a hybrid event\, with both onsite and online streaming elements for participants in Singapore and overseas. In doing so\, it aims to continue fostering a robust exchange of views and perspectives among thought leaders and industry professionals in the energy industry\, even as we adhere to safe management practices.\n\nFor more details and to register\, please use this link. Discounted tickets available for Council members.
X-ALT-DESC;FMTTYPE=text/html:<p><br />\n<br />\n<span style="font-family:arial\,sans-serif\;">The Council is a supporting organization for the Singapore International Energy Week (SIEW) which is an annual platform for energy professionals\, policymakers and commentators to discuss and share best practices and solutions within the global energy space. First held in 2008\, attendance at SIEW has grown from 2\,500 to over 20\,000 participants and 300 speakers globally\, and more than 80 countries represented at SIEW 2021.</span><br />\n&nbsp\;<br />\n<span style="font-family:arial\,sans-serif\;">This year\, SIEW 2022 will run as a hybrid event\, with both onsite and online streaming elements for participants in Singapore and overseas. In doing so\, it aims to continue fostering a robust exchange of views and perspectives among thought leaders and industry professionals in the energy industry\, even as we adhere to safe management practices.</span></p>\n\n<p><b>For more details and to register\, please use this <a href="https://www.siew.gov.sg/">link</a>. Discounted tickets available for Council members.</b></p>\n
LOCATION:
UID:e.9078.8864
SEQUENCE:3
DTSTAMP:20260421T205213Z
URL:http://memberzone.usasean.org/events/details/2022-singapore-international-energy-week-siew-8864
END:VEVENT

END:VCALENDAR
