BEGIN:VCALENDAR
VERSION:2.0
PRODID:-//ChamberMaster//Event Calendar 2.0//EN
METHOD:PUBLISH
X-PUBLISHED-TTL:P3D
REFRESH-INTERVAL:P3D
CALSCALE:GREGORIAN
BEGIN:VEVENT
DTSTART:20220707T123000Z
DTEND:20220707T133000Z
X-MICROSOFT-CDO-ALLDAYEVENT:FALSE
SUMMARY:2022 Q2 Sustainability Committee Call
DESCRIPTION:Join us for the next meeting of the Sustainability Committee\, focusing on recent advocacy\, upcoming events\, and including a special briefing by Chris Parker\, Director of the Plastics Program at ClimeCo. For questions or to register\, please email Lauren Mai (lmai@usasean.org).
X-ALT-DESC;FMTTYPE=text/html:Join us for the next meeting of the Sustainability Committee\, focusing on recent advocacy\, upcoming events\, and including a special briefing by Chris Parker\, Director of the Plastics Program at ClimeCo. For questions or to register\, please email Lauren Mai (<a href="http://dkean@usasean.org">l</a>mai@usasean.org).
LOCATION:Zoom
UID:e.9078.8801
SEQUENCE:3
DTSTAMP:20260422T014631Z
URL:http://memberzone.usasean.org/events/details/2022-q2-sustainability-committee-call-8801
END:VEVENT

END:VCALENDAR
