BEGIN:VCALENDAR
VERSION:2.0
PRODID:-//ChamberMaster//Event Calendar 2.0//EN
METHOD:PUBLISH
X-PUBLISHED-TTL:P3D
REFRESH-INTERVAL:P3D
CALSCALE:GREGORIAN
BEGIN:VEVENT
DTSTART:20221207T000000Z
DTEND:20221207T011500Z
X-MICROSOFT-CDO-ALLDAYEVENT:FALSE
SUMMARY:2022 Philippines Fourth Quarterly Call
DESCRIPTION:Fourth Philippines Quarterly Call \n\n\n\nDial-In Details & Agenda will be sent to registered members.
X-ALT-DESC;FMTTYPE=text/html:Fourth Philippines Quarterly Call&nbsp\;<br />\n<br />\nDial-In Details &amp\; Agenda will be sent to registered members.
LOCATION:Zoom
UID:e.9078.8912
SEQUENCE:3
DTSTAMP:20260421T173418Z
URL:http://memberzone.usasean.org/events/details/2022-philippines-fourth-quarterly-call-8912
END:VEVENT

END:VCALENDAR
