BEGIN:VCALENDAR
VERSION:2.0
PRODID:-//ChamberMaster//Event Calendar 2.0//EN
METHOD:PUBLISH
X-PUBLISHED-TTL:P3D
REFRESH-INTERVAL:P3D
CALSCALE:GREGORIAN
BEGIN:VEVENT
DTSTART:20220930T000000Z
DTEND:20220930T010000Z
X-MICROSOFT-CDO-ALLDAYEVENT:FALSE
SUMMARY:2022 Philippine Business Mission 2nd Planning Call
DESCRIPTION:Second Planning Call for the 2022 Philippine Business Mission\n\n\n\nAgenda and Zoom invite to be sent prior the the planning call.
X-ALT-DESC;FMTTYPE=text/html:<span style="font-size: 16px\;">Second Planning Call for the 2022 Philippine Business Mission</span><br style="font-size: 16px\;" />\n<br style="font-size: 16px\;" />\n<span style="font-size: 16px\;">Agenda and Zoom invite to be sent prior the the planning call.</span>
LOCATION:Through Zoom Washington D.C.: Thursday\, September 29\, 08:00 - 09:00 PM Manila: Friday\, September 30\, 08:00 - 09:00 AM
UID:e.9078.8862
SEQUENCE:3
DTSTAMP:20260421T222853Z
URL:http://memberzone.usasean.org/events/details/2022-philippine-business-mission-2nd-planning-call-8862
END:VEVENT

END:VCALENDAR
