BEGIN:VCALENDAR
VERSION:2.0
PRODID:-//ChamberMaster//Event Calendar 2.0//EN
METHOD:PUBLISH
X-PUBLISHED-TTL:P3D
REFRESH-INTERVAL:P3D
CALSCALE:GREGORIAN
BEGIN:VEVENT
DTSTART:20220909T000000Z
DTEND:20220909T013000Z
X-MICROSOFT-CDO-ALLDAYEVENT:FALSE
SUMMARY:2022 Philippine Business Mission 1st Planning Call
DESCRIPTION:First Planning Call for the 2022 Philippine Business Mission\n\n\n\nFeaturing a Briefer from Professor Victor "Dindo" Manhit on the Philippine Business Environment\n\n\n\nAgenda and Zoom invite to be sent prior the the planning call.
X-ALT-DESC;FMTTYPE=text/html:<span style="font-size:16px\;">First Planning Call for the 2022 Philippine Business Mission<br />\n<br />\nFeaturing a Briefer from Professor Victor &quot\;Dindo&quot\; Manhit on the Philippine Business Environment<br />\n<br />\nAgenda and Zoom invite to be sent prior the the planning call.</span>
LOCATION:Through Zoom Washington D.C.: Thursday\, September 08\, 08:00 - 09:30 PM Manila: Friday\, September 09\, 08:00 - 09:30 AM
UID:e.9078.8850
SEQUENCE:3
DTSTAMP:20260421T222905Z
URL:http://memberzone.usasean.org/events/details/2022-philippine-business-mission-1st-planning-call-8850
END:VEVENT

END:VCALENDAR
