BEGIN:VCALENDAR
VERSION:2.0
PRODID:-//ChamberMaster//Event Calendar 2.0//EN
METHOD:PUBLISH
X-PUBLISHED-TTL:P3D
REFRESH-INTERVAL:P3D
CALSCALE:GREGORIAN
BEGIN:VEVENT
DTSTART:20220810T130000Z
DTEND:20220810T143000Z
X-MICROSOFT-CDO-ALLDAYEVENT:FALSE
SUMMARY:2022 Indonesia Business Mission Second Planning Call
DESCRIPTION:Second Planning Call for the \n\n			\n\n			2022 Indonesia Business Mission \n\n			\n\n			Featuring an Briefing on Indo-Pacific Economic Framework (IPEF)\n\n			\n\n			by USTR and DOC\n\n			\n\n			Date - Jakarta: August 10\, 2022 8:00 PM - 09:30 PM evening JKT\n\n			Date - Washington\, DC: August 10\, 2022 9:00 AM - 10:30 AM EDT
X-ALT-DESC;FMTTYPE=text/html:<table border="0" cellpadding="0" cellspacing="0" class="x_MsoNormalTable" id="x_invitation" style="caret-color: rgb(0\, 0\, 0)\; font-family: Calibri\; text-indent: 0px\; text-size-adjust: auto\; width: 487.5pt\;" width="650">\n	<tbody>\n		<tr>\n			<td colspan="3" id="x_event-info" style="padding: 15pt 0in\;">\n			<p class="x_MsoNormal" style="margin: 0in\; font-size: 10pt\; font-family: Calibri\, sans-serif\;">&nbsp\;</p>\n\n			<p class="x_MsoNormal" style="margin: 0in\; font-size: 10pt\; font-family: Calibri\, sans-serif\;"><span style="font-size:16px\;"><span style="font-family:arial\;"><b><span style="letter-spacing: 0.75pt\;">Second Planning Call for the&nbsp\;<br />\n			<br />\n			2022 Indonesia Business Mission&nbsp\;</span></b><br />\n			<br />\n			<b><span style="letter-spacing: 0.75pt\;">Featuring an Briefing on Indo-Pacific Economic Framework (IPEF)<br />\n			<br />\n			by USTR and DOC</span></b></span></span><br />\n			<br />\n			<b style="font-family: Calibri\, sans-serif\; caret-color: rgb(0\, 0\, 0)\; color: rgb(0\, 0\, 0)\; font-size: 14.6667px\; text-size-adjust: auto\;"><span style="font-size: 13.5pt\; font-family: Arial\, sans-serif\;">Date - Jakarta:</span></b><span style="caret-color: rgb(0\, 0\, 0)\; color: rgb(0\, 0\, 0)\; text-size-adjust: auto\; font-size: 13.5pt\; font-family: Arial\, sans-serif\;">&nbsp\;August 10\, 2022 8:00 PM&nbsp\;- 09:30 PM evening JKT</span><br />\n			<b style="caret-color: rgb(0\, 0\, 0)\; color: rgb(0\, 0\, 0)\; font-family: Calibri\, sans-serif\; font-size: 14.6667px\; text-size-adjust: auto\;"><span style="font-size: 13.5pt\; font-family: Arial\, sans-serif\;">Date - Washington\, DC:</span></b><span style="caret-color: rgb(0\, 0\, 0)\; color: rgb(0\, 0\, 0)\; text-size-adjust: auto\; font-size: 13.5pt\; font-family: Arial\, sans-serif\;"> August 10\, 2022 9:00 AM&nbsp\;-&nbsp\;10:30 AM EDT</span></p>\n			</td>\n		</tr>\n		<tr>\n			<td colspan="3" id="x_logistical-info" style="padding: 0in\;">&nbsp\;</td>\n		</tr>\n	</tbody>\n</table>\n
LOCATION:
UID:e.9078.8830
SEQUENCE:3
DTSTAMP:20260421T235727Z
URL:http://memberzone.usasean.org/events/details/2022-indonesia-business-mission-second-planning-call-8830
END:VEVENT

END:VCALENDAR
