BEGIN:VCALENDAR
VERSION:2.0
PRODID:-//ChamberMaster//Event Calendar 2.0//EN
METHOD:PUBLISH
X-PUBLISHED-TTL:P3D
REFRESH-INTERVAL:P3D
CALSCALE:GREGORIAN
BEGIN:VEVENT
DTSTART:20220729T010000Z
DTEND:20220729T021500Z
X-MICROSOFT-CDO-ALLDAYEVENT:FALSE
SUMMARY:2022 Indonesia Business Mission First Planning Call
DESCRIPTION:First Planning Call for the \n\n			\n\n			2022 Indonesia Business Mission \n\n			\n\n			Featuring an Economic Briefing by\n\n			\n\n			H.E. Rosan Roeslani\, Ambassador of Indonesia to the U.S
X-ALT-DESC;FMTTYPE=text/html:<table border="0" cellpadding="0" cellspacing="0" class="x_MsoNormalTable" id="x_invitation" style="caret-color: rgb(0\, 0\, 0)\; font-family: Calibri\; text-indent: 0px\; text-size-adjust: auto\; width: 487.5pt\;" width="650">\n	<tbody>\n		<tr>\n			<td colspan="3" id="x_event-info" style="padding: 15pt 0in\;">\n			<p class="x_MsoNormal" style="margin: 0in\; font-size: 10pt\; font-family: Calibri\, sans-serif\;">&nbsp\;</p>\n\n			<p class="x_MsoNormal" style="margin: 0in\; font-size: 10pt\; font-family: Calibri\, sans-serif\;"><span style="font-size:16px\;"><span style="font-family:arial\;"><b><span style="letter-spacing: 0.75pt\;">First Planning Call for the&nbsp\;<br />\n			<br />\n			2022 Indonesia Business Mission&nbsp\;</span></b><br />\n			<br />\n			<b><span style="letter-spacing: 0.75pt\;">Featuring an Economic Briefing by<br />\n			<br />\n			H.E. Rosan Roeslani\, Ambassador of Indonesia to the U.S</span></b><br />\n			<b><span style="letter-spacing: 0.75pt\;">&nbsp\;</span></b></span></span></p>\n			</td>\n		</tr>\n		<tr>\n			<td colspan="3" id="x_logistical-info" style="padding: 0in\;">&nbsp\;</td>\n		</tr>\n	</tbody>\n</table>\n
LOCATION:Washington D.C.: Thursday\, July 28\, 09.00 PM - 10.15 PM Jakarta: Friday\, July 29\, 8.00 AM - 09.15 AM
UID:e.9078.8822
SEQUENCE:3
DTSTAMP:20260422T014916Z
URL:http://memberzone.usasean.org/events/details/2022-indonesia-business-mission-first-planning-call-8822
END:VEVENT

END:VCALENDAR
