BEGIN:VCALENDAR
VERSION:2.0
PRODID:-//ChamberMaster//Event Calendar 2.0//EN
METHOD:PUBLISH
X-PUBLISHED-TTL:P3D
REFRESH-INTERVAL:P3D
CALSCALE:GREGORIAN
BEGIN:VEVENT
DTSTART;VALUE=DATE:20220823
DTEND;VALUE=DATE:20220827
TRANSP:TRANSPARENT
X-MICROSOFT-CDO-ALLDAYEVENT:TRUE
SUMMARY:2022 Indonesia Business Mission
DESCRIPTION:To join US-ABC Business Missions\, please register through the Business Mission Manager https://www.usasean.org/mission/registration
X-ALT-DESC;FMTTYPE=text/html:To join US-ABC Business Missions\, please register through the Business Mission Manager https://www.usasean.org/mission/registration
LOCATION:
UID:e.9078.8799
SEQUENCE:3
DTSTAMP:20260422T000250Z
URL:http://memberzone.usasean.org/events/details/2022-indonesia-business-mission-8799
END:VEVENT

END:VCALENDAR
