BEGIN:VCALENDAR
VERSION:2.0
PRODID:-//ChamberMaster//Event Calendar 2.0//EN
METHOD:PUBLISH
X-PUBLISHED-TTL:P3D
REFRESH-INTERVAL:P3D
CALSCALE:GREGORIAN
BEGIN:VEVENT
DTSTART;VALUE=DATE:20220917
DTEND;VALUE=DATE:20220919
TRANSP:TRANSPARENT
X-MICROSOFT-CDO-ALLDAYEVENT:TRUE
SUMMARY:2022 Business Mission to the 54th ASEAN Economic Ministers' Meeting
DESCRIPTION:
X-ALT-DESC;FMTTYPE=text/html:<div style="font-size: 16px\; caret-color: rgb(0\, 0\, 0)\; font-family: Calibri\;">\n<div style="font-size: 16px\; caret-color: rgb(0\, 0\, 0)\; font-family: Calibri\;">&nbsp\;</div>\n</div>\n
LOCATION:Please register at https://www.usasean.org/mission/registration
UID:e.9078.8835
SEQUENCE:3
DTSTAMP:20260421T223207Z
URL:http://memberzone.usasean.org/events/details/2022-business-mission-to-the-54th-asean-economic-ministers-meeting-8835
END:VEVENT

END:VCALENDAR
