BEGIN:VCALENDAR
VERSION:2.0
PRODID:-//ChamberMaster//Event Calendar 2.0//EN
METHOD:PUBLISH
X-PUBLISHED-TTL:P3D
REFRESH-INTERVAL:P3D
CALSCALE:GREGORIAN
BEGIN:VEVENT
DTSTART:20220905T030000Z
DTEND:20220905T043000Z
X-MICROSOFT-CDO-ALLDAYEVENT:FALSE
SUMMARY:2022 AEM Business Mission: Second Planning Call
DESCRIPTION:Second planning call of the 2022 AEM Business Mission featuring a briefing from Deputy Secretary General for ASEAN Economic Community\, H. E. Satvinder Singh
X-ALT-DESC;FMTTYPE=text/html:Second planning call of the 2022 AEM Business Mission featuring a briefing from Deputy Secretary General for ASEAN Economic Community\, H. E. Satvinder Singh
LOCATION:Zoom dial-in details will be given after completing the registration
UID:e.9078.8852
SEQUENCE:3
DTSTAMP:20260421T222529Z
URL:http://memberzone.usasean.org/events/details/2022-aem-business-mission-second-planning-call-8852
END:VEVENT

END:VCALENDAR
