BEGIN:VCALENDAR
VERSION:2.0
PRODID:-//ChamberMaster//Event Calendar 2.0//EN
METHOD:PUBLISH
X-PUBLISHED-TTL:P3D
REFRESH-INTERVAL:P3D
CALSCALE:GREGORIAN
BEGIN:VEVENT
DTSTART:20211210T023000Z
DTEND:20211210T033000Z
X-MICROSOFT-CDO-ALLDAYEVENT:FALSE
SUMMARY:2022 ADGMIN Mission - First Planning Call
DESCRIPTION:The Council will be organizing a virtual business mission to the 2nd ASEAN Digital Ministers Meeting\, scheduled for January 20 - 28\, 2022. \n\n\n\nIn the lead up to this mission\, the Council will be organizing the first planning call on Friday\, December 10\, 10.30 AM - 11.30 AM SGT. Interested members are encouraged to join this first mission planning call. \n\n\n\nDial-in details will be shared in due course.
X-ALT-DESC;FMTTYPE=text/html:<span style="font-size: 14px\;">The Council will be organizing a virtual business mission to the 2nd ASEAN Digital Ministers Meeting\, scheduled for January 20 - 28\, 2022.&nbsp\;</span><br />\n<br />\n<span style="text-align: justify\;"><span style="font-size: 14px\;">In the lead up to this mission\, the Council will be organizing the first planning call on Friday\, December 10\, 10.30 AM - 11.30 AM SGT. Interested members are encouraged to join this first mission planning call.&nbsp\;<br />\n<br />\nDial-in details will be shared in due course.&nbsp\;</span></span>
LOCATION:Virtual
UID:e.9078.8648
SEQUENCE:3
DTSTAMP:20260423T014211Z
URL:http://memberzone.usasean.org/events/details/2022-adgmin-mission-first-planning-call-8648
END:VEVENT

END:VCALENDAR
