BEGIN:VCALENDAR
VERSION:2.0
PRODID:-//ChamberMaster//Event Calendar 2.0//EN
METHOD:PUBLISH
X-PUBLISHED-TTL:P3D
REFRESH-INTERVAL:P3D
CALSCALE:GREGORIAN
BEGIN:VEVENT
DTSTART;VALUE=DATE:20210913
DTEND;VALUE=DATE:20210918
TRANSP:TRANSPARENT
X-MICROSOFT-CDO-ALLDAYEVENT:TRUE
SUMMARY:2021 Virtual Business Mission to the 39th ASEAN Ministers of Energy Meeting (AMEM)
DESCRIPTION:
X-ALT-DESC;FMTTYPE=text/html:&nbsp\;&nbsp\;&nbsp\;&nbsp\;
LOCATION:Please register at https://www.usasean.org/mission/registration
UID:e.9078.8572
SEQUENCE:3
DTSTAMP:20260419T142545Z
URL:http://memberzone.usasean.org/events/details/2021-virtual-business-mission-to-the-39th-asean-ministers-of-energy-meeting-amem-8572
END:VEVENT

END:VCALENDAR
