BEGIN:VCALENDAR
VERSION:2.0
PRODID:-//ChamberMaster//Event Calendar 2.0//EN
METHOD:PUBLISH
X-PUBLISHED-TTL:P3D
REFRESH-INTERVAL:P3D
CALSCALE:GREGORIAN
BEGIN:VEVENT
DTSTART:20210927T010000Z
DTEND:20210927T020000Z
X-MICROSOFT-CDO-ALLDAYEVENT:FALSE
SUMMARY:2021 Vietnam Virtual Business Mission Planning Call
DESCRIPTION:The Council is pleased to invite you to the Planning Call for the 2021 Virtual Business Mission to Vietnam (October 4-8\, 2021). During the call\, we will discuss the latest updates in mission planning\, including meeting priorities and logistics.
X-ALT-DESC;FMTTYPE=text/html:<span style="font-family:arial\,sans-serif\;"><span style="font-size:12.0pt\;">The Council is pleased to invite you to the Planning Call for the 2021 Virtual Business Mission to Vietnam (October 4-8\, 2021). During the call\, we will discuss the latest updates in mission planning\, including meeting priorities and logistics.&nbsp\;</span></span>
LOCATION:Virtual
UID:e.9078.8575
SEQUENCE:3
DTSTAMP:20260419T142356Z
URL:http://memberzone.usasean.org/events/details/2021-vietnam-virtual-business-mission-planning-call-8575
END:VEVENT

END:VCALENDAR
