BEGIN:VCALENDAR
VERSION:2.0
PRODID:-//ChamberMaster//Event Calendar 2.0//EN
METHOD:PUBLISH
X-PUBLISHED-TTL:P3D
REFRESH-INTERVAL:P3D
CALSCALE:GREGORIAN
BEGIN:VEVENT
DTSTART:20210527T010000Z
DTEND:20210527T020000Z
X-MICROSOFT-CDO-ALLDAYEVENT:FALSE
SUMMARY:2021 Singapore Business Mission Planning Call#1
DESCRIPTION:Meeting Over Zoom
X-ALT-DESC;FMTTYPE=text/html:Meeting Over Zoom
LOCATION:2021 Virtual Singapore Business Mission Planning Call #1
UID:e.9078.8472
SEQUENCE:3
DTSTAMP:20260419T210505Z
URL:http://memberzone.usasean.org/events/details/2021-singapore-business-mission-planning-call-1-8472
END:VEVENT

END:VCALENDAR
