BEGIN:VCALENDAR
VERSION:2.0
PRODID:-//ChamberMaster//Event Calendar 2.0//EN
METHOD:PUBLISH
X-PUBLISHED-TTL:P3D
REFRESH-INTERVAL:P3D
CALSCALE:GREGORIAN
BEGIN:VEVENT
DTSTART:20211207T020000Z
DTEND:20211207T030000Z
X-MICROSOFT-CDO-ALLDAYEVENT:FALSE
SUMMARY:2021 Quarter 4 Food & Agriculture Committee Call
DESCRIPTION:Quarter 4 Food & Agriculture Committee Call
X-ALT-DESC;FMTTYPE=text/html:Quarter 4 Food &amp\; Agriculture Committee Call
LOCATION:
UID:e.9078.8649
SEQUENCE:3
DTSTAMP:20260423T031719Z
URL:http://memberzone.usasean.org/events/details/2021-quarter-4-food-agriculture-committee-call-8649
END:VEVENT

END:VCALENDAR
