BEGIN:VCALENDAR
VERSION:2.0
PRODID:-//ChamberMaster//Event Calendar 2.0//EN
METHOD:PUBLISH
X-PUBLISHED-TTL:P3D
REFRESH-INTERVAL:P3D
CALSCALE:GREGORIAN
BEGIN:VEVENT
DTSTART:20210630T020000Z
DTEND:20210630T030000Z
X-MICROSOFT-CDO-ALLDAYEVENT:FALSE
SUMMARY:2021 Quarter 2 Food and Agriculture Committee Call
DESCRIPTION:2021 Quarter 2 Food & Agriculture Committee Call
X-ALT-DESC;FMTTYPE=text/html:2021 Quarter 2 Food &amp\; Agriculture Committee Call
LOCATION:
UID:e.9078.8494
SEQUENCE:3
DTSTAMP:20260419T192416Z
URL:http://memberzone.usasean.org/events/details/2021-quarter-2-food-and-agriculture-committee-call-8494
END:VEVENT

END:VCALENDAR
