BEGIN:VCALENDAR
VERSION:2.0
PRODID:-//ChamberMaster//Event Calendar 2.0//EN
METHOD:PUBLISH
X-PUBLISHED-TTL:P3D
REFRESH-INTERVAL:P3D
CALSCALE:GREGORIAN
BEGIN:VEVENT
DTSTART:20210331T020000Z
DTEND:20210331T030000Z
X-MICROSOFT-CDO-ALLDAYEVENT:FALSE
SUMMARY:2021\, Quarter 1 Food & Agriculture Committee Call
DESCRIPTION:2021 Quarter 1 Food & Agriculture Committee Call
X-ALT-DESC;FMTTYPE=text/html:2021 Quarter 1 Food &amp\; Agriculture Committee Call
LOCATION:Zoom
UID:e.9078.8423
SEQUENCE:3
DTSTAMP:20260420T001130Z
URL:http://memberzone.usasean.org/events/details/2021-quarter-1-food-agriculture-committee-call-8423
END:VEVENT

END:VCALENDAR
