BEGIN:VCALENDAR
VERSION:2.0
PRODID:-//ChamberMaster//Event Calendar 2.0//EN
METHOD:PUBLISH
X-PUBLISHED-TTL:P3D
REFRESH-INTERVAL:P3D
CALSCALE:GREGORIAN
BEGIN:VEVENT
DTSTART:20210716T003000Z
DTEND:20210716T013000Z
X-MICROSOFT-CDO-ALLDAYEVENT:FALSE
SUMMARY:2021 Q3 Travel and Tourism Committee Call
DESCRIPTION:2021 Q3 Travel and Tourism Committee Call
X-ALT-DESC;FMTTYPE=text/html:2021 Q3 Travel and Tourism Committee Call
LOCATION:Zoom Meeting
UID:e.9078.8513
SEQUENCE:3
DTSTAMP:20260419T174353Z
URL:http://memberzone.usasean.org/events/details/2021-q3-travel-and-tourism-committee-call-8513
END:VEVENT

END:VCALENDAR
