BEGIN:VCALENDAR
VERSION:2.0
PRODID:-//ChamberMaster//Event Calendar 2.0//EN
METHOD:PUBLISH
X-PUBLISHED-TTL:P3D
REFRESH-INTERVAL:P3D
CALSCALE:GREGORIAN
BEGIN:VEVENT
DTSTART:20210713T010000Z
DTEND:20210713T020000Z
X-MICROSOFT-CDO-ALLDAYEVENT:FALSE
SUMMARY:2021 Q3 Philippines Quarterly Committee Call
DESCRIPTION:2021 Q3 Philippines Committee Call
X-ALT-DESC;FMTTYPE=text/html:2021 Q3 Philippines Committee Call&nbsp\;
LOCATION:Zoom Meeting
UID:e.9078.8508
SEQUENCE:3
DTSTAMP:20260419T174117Z
URL:http://memberzone.usasean.org/events/details/2021-q3-philippines-quarterly-committee-call-8508
END:VEVENT

END:VCALENDAR
