BEGIN:VCALENDAR
VERSION:2.0
PRODID:-//ChamberMaster//Event Calendar 2.0//EN
METHOD:PUBLISH
X-PUBLISHED-TTL:P3D
REFRESH-INTERVAL:P3D
CALSCALE:GREGORIAN
BEGIN:VEVENT
DTSTART:20210203T130000Z
DTEND:20210203T143000Z
X-MICROSOFT-CDO-ALLDAYEVENT:FALSE
SUMMARY:2021 Q1 Sustainability Committee Call
DESCRIPTION:
X-ALT-DESC;FMTTYPE=text/html:
LOCATION:
UID:e.9078.8373
SEQUENCE:3
DTSTAMP:20260420T020333Z
URL:http://memberzone.usasean.org/events/details/2021-q1-sustainability-committee-call-8373
END:VEVENT

END:VCALENDAR
