BEGIN:VCALENDAR
VERSION:2.0
PRODID:-//ChamberMaster//Event Calendar 2.0//EN
METHOD:PUBLISH
X-PUBLISHED-TTL:P3D
REFRESH-INTERVAL:P3D
CALSCALE:GREGORIAN
BEGIN:VEVENT
DTSTART:20210325T023000Z
DTEND:20210325T040000Z
X-MICROSOFT-CDO-ALLDAYEVENT:FALSE
SUMMARY:2021 Q1 Innovation Sub-Committee Call
DESCRIPTION:The Council is pleased to invite you to the 2021 Q1 Innovation Subcommittee call with the following proposed agenda:\n\n	Briefing by Jeffery Warner\, Senior ASEAN Affairs Officer\, U.S. State Department.\n	Introduction to Innovation Subcommittee Chairs.\n	Discussion of Work Plan 2021.
X-ALT-DESC;FMTTYPE=text/html:The Council is pleased to invite you to the 2021 Q1 Innovation Subcommittee call with the following proposed agenda:\n<ul>\n	<li style="margin-left:0in\;">Briefing by Jeffery Warner\, Senior ASEAN Affairs Officer\, U.S. State Department.</li>\n	<li style="margin-left:0in\;">Introduction to Innovation Subcommittee Chairs.</li>\n	<li style="margin-left:0in\;">Discussion of Work Plan 2021.</li>\n</ul>\n
LOCATION:Zoom: Dial-in details will be sent prior to the call.
UID:e.9078.8427
SEQUENCE:3
DTSTAMP:20260420T000751Z
URL:http://memberzone.usasean.org/events/details/2021-q1-innovation-sub-committee-call-8427
END:VEVENT

END:VCALENDAR
