BEGIN:VCALENDAR
VERSION:2.0
PRODID:-//ChamberMaster//Event Calendar 2.0//EN
METHOD:PUBLISH
X-PUBLISHED-TTL:P3D
REFRESH-INTERVAL:P3D
CALSCALE:GREGORIAN
BEGIN:VEVENT
DTSTART:20211213T020000Z
DTEND:20211213T033000Z
X-MICROSOFT-CDO-ALLDAYEVENT:FALSE
SUMMARY:2021 Philippines Committee Q4 Call
DESCRIPTION:2021 Philippines Q4 Call featuring Dr. Julio Teehankee
X-ALT-DESC;FMTTYPE=text/html:2021 Philippines Q4 Call featuring Dr. Julio Teehankee&nbsp\;
LOCATION:Via Zoom
UID:e.9078.8660
SEQUENCE:3
DTSTAMP:20260421T091039Z
URL:http://memberzone.usasean.org/events/details/2021-philippines-committee-q4-call-8660
END:VEVENT

END:VCALENDAR
