BEGIN:VCALENDAR
VERSION:2.0
PRODID:-//ChamberMaster//Event Calendar 2.0//EN
METHOD:PUBLISH
X-PUBLISHED-TTL:P3D
REFRESH-INTERVAL:P3D
CALSCALE:GREGORIAN
BEGIN:VEVENT
DTSTART:20211110T040000Z
DTEND:20211110T063000Z
X-MICROSOFT-CDO-ALLDAYEVENT:FALSE
SUMMARY:2021 Luncheon Discussion with US Congressional Delegation
DESCRIPTION:
X-ALT-DESC;FMTTYPE=text/html:
LOCATION:
UID:e.9078.8636
SEQUENCE:3
DTSTAMP:20260419T124002Z
URL:http://memberzone.usasean.org/events/details/2021-luncheon-discussion-with-us-congressional-delegation-8636
END:VEVENT

END:VCALENDAR
